BEGIN:VCALENDAR
VERSION:2.0
PRODID:-//195.42.120.7//NONSGML kigkonsult.se iCalcreator 2.20//
CALSCALE:GREGORIAN
METHOD:PUBLISH
X-WR-TIMEZONE:UTC
BEGIN:VEVENT
UID:event208@Imkerverein Emsdetten
DTSTAMP:20260425T105322Z
CATEGORIES:termine
DESCRIPTION:Infoveranstaltung Asiatische Hornisse\nKategorie: termine\nICS-
 Link: https://www.imkerverein-emsdetten.de/index.php?option=com_jem&view=e
 vent&id=208:infoveranstaltung-asiatische-hornisse\n
DTSTART:20250213T190000Z
DTEND:20250213T213000Z
SUMMARY:Infoveranstaltung Asiatische Hornisse
URL:https://www.imkerverein-emsdetten.de/index.php?option=com_jem&view=even
 t&id=208:infoveranstaltung-asiatische-hornisse
END:VEVENT
END:VCALENDAR